BEGIN:VCALENDAR
VERSION:2.0
PRODID:spatie/icalendar-generator
DESCRIPTION:Events from Touchback Safety Inc
X-WR-CALDESC:Events from Touchback Safety Inc
REFRESH-INTERVAL;VALUE=DURATION:PT1440M
X-PUBLISHED-TTL:PT1440M
BEGIN:VTIMEZONE
TZID:America/Edmonton
BEGIN:STANDARD
DTSTART:20251102T020000Z
TZOFFSETFROM:-0600
TZOFFSETTO:-0700
END:STANDARD
BEGIN:DAYLIGHT
DTSTART:20260308T020000Z
TZOFFSETFROM:-0700
TZOFFSETTO:-0600
END:DAYLIGHT
END:VTIMEZONE
BEGIN:VTIMEZONE
TZID:UTC
BEGIN:STANDARD
DTSTART:20250729T025203Z
TZOFFSETFROM:+0000
TZOFFSETTO:+0000
END:STANDARD
END:VTIMEZONE
BEGIN:VEVENT
UID:2398-2
DTSTAMP:20260425T025203Z
SUMMARY:OHS Fall Protection
LOCATION:
ORGANIZER;CN=websitesca:MAILTO:website@admin-websites.ca
DTSTART;TZID=America/Edmonton;VALUE=DATE:20260427
DTEND;TZID=America/Edmonton;VALUE=DATE:20260427
X-ALT-DESC;FMTTYPE=TEXT/HTML:OHS Compliant Fall Protection This is not an E
 SC (Energy Safety Canada) Course\, if you are an Alberta Building Trades m
 ember\,  then this course is not accepted. BC Endorsement available for a
 dditional fee $20\, please advise in the comment section if you require th
 e add-on Book Now
CATEGORIES:OHS Fall Protection
URL;VALUE=URI:https://www.touchbacksafety.com/mc-events/ohs-fall-protection
 /
METHOD:PUBLISH
END:VEVENT
END:VCALENDAR