BEGIN:VCALENDAR
VERSION:2.0
PRODID:spatie/icalendar-generator
DESCRIPTION:Events from Touchback Safety Inc
X-WR-CALDESC:Events from Touchback Safety Inc
REFRESH-INTERVAL;VALUE=DURATION:PT1440M
X-PUBLISHED-TTL:PT1440M
BEGIN:VTIMEZONE
TZID:America/Edmonton
BEGIN:STANDARD
DTSTART:20251102T020000Z
TZOFFSETFROM:-0600
TZOFFSETTO:-0700
END:STANDARD
BEGIN:DAYLIGHT
DTSTART:20260308T020000Z
TZOFFSETFROM:-0700
TZOFFSETTO:-0600
END:DAYLIGHT
END:VTIMEZONE
BEGIN:VTIMEZONE
TZID:UTC
BEGIN:STANDARD
DTSTART:20250725T111446Z
TZOFFSETFROM:+0000
TZOFFSETTO:+0000
END:STANDARD
END:VTIMEZONE
BEGIN:VEVENT
UID:2387-7
DTSTAMP:20260421T111446Z
SUMMARY:ESC MEWP
LOCATION:
ORGANIZER;CN=websitesca:MAILTO:website@admin-websites.ca
DTSTART;TZID=America/Edmonton;VALUE=DATE:20260422
DTEND;TZID=America/Edmonton;VALUE=DATE:20260422
X-ALT-DESC;FMTTYPE=TEXT/HTML:ESC MEWP ( Mobile Elevated Work Platform)  Mu
 st have a valid ESC Fall Protection certificate\, non refundable if you ar
 rive with a Fall Protection ticket that is not Energy Safety Canada.  If 
 you are an Alberta Building Trades Member\, please call the office to regi
 ster\, have your Union number ready.  Book Now
CATEGORIES:ESC MEWP
URL;VALUE=URI:https://www.touchbacksafety.com/mc-events/esc-mewp/
METHOD:PUBLISH
END:VEVENT
END:VCALENDAR